BEGIN:VCALENDAR
VERSION:2.0
PRODID:-//Martha J Dodd - ECPv6.15.20//NONSGML v1.0//EN
CALSCALE:GREGORIAN
METHOD:PUBLISH
X-ORIGINAL-URL:https://marthadoddartist.com
X-WR-CALDESC:Events for Martha J Dodd
REFRESH-INTERVAL;VALUE=DURATION:PT1H
X-Robots-Tag:noindex
X-PUBLISHED-TTL:PT1H
BEGIN:VTIMEZONE
TZID:America/New_York
BEGIN:DAYLIGHT
TZOFFSETFROM:-0500
TZOFFSETTO:-0400
TZNAME:EDT
DTSTART:20220313T070000
END:DAYLIGHT
BEGIN:STANDARD
TZOFFSETFROM:-0400
TZOFFSETTO:-0500
TZNAME:EST
DTSTART:20221106T060000
END:STANDARD
BEGIN:DAYLIGHT
TZOFFSETFROM:-0500
TZOFFSETTO:-0400
TZNAME:EDT
DTSTART:20230312T070000
END:DAYLIGHT
BEGIN:STANDARD
TZOFFSETFROM:-0400
TZOFFSETTO:-0500
TZNAME:EST
DTSTART:20231105T060000
END:STANDARD
BEGIN:DAYLIGHT
TZOFFSETFROM:-0500
TZOFFSETTO:-0400
TZNAME:EDT
DTSTART:20240310T070000
END:DAYLIGHT
BEGIN:STANDARD
TZOFFSETFROM:-0400
TZOFFSETTO:-0500
TZNAME:EST
DTSTART:20241103T060000
END:STANDARD
END:VTIMEZONE
BEGIN:VEVENT
DTSTART;VALUE=DATE:20230311
DTEND;VALUE=DATE:20230313
DTSTAMP:20260423T105506
CREATED:20230307T141411Z
LAST-MODIFIED:20230309T221105Z
UID:11311-1678492800-1678665599@marthadoddartist.com
SUMMARY:Tamiami Spring Art & Craft Show March 11th and 12th\, 2023
DESCRIPTION:Tamiami Spring Art & Craft Show March 11th and 12th\, 2023\nI’ll be exhibiting my work at the Tamiami Spring Art & Craft ShowMarch 11th and 12th\, 2023. The hours are 10 to 5pm each day. \nEVENT
URL:https://marthadoddartist.com/event/tamiami-spring-art-craft-show-march-11th-and-12th-2023/
LOCATION:Donna Fiala Eagle Lakes Community Park\, 11565 Tamiami Trail East\, Naples\, FL
CATEGORIES:Art Shows
ATTACH;FMTTYPE=image/jpeg:https://marthadoddartist.com/wp-content/uploads/2023/01/booth-shot-with-martha-jan-2023.jpg
END:VEVENT
BEGIN:VEVENT
DTSTART;VALUE=DATE:20230121
DTEND;VALUE=DATE:20230123
DTSTAMP:20260423T105506
CREATED:20230117T212027Z
LAST-MODIFIED:20230117T212027Z
UID:11290-1674259200-1674431999@marthadoddartist.com
SUMMARY:Sarasota Art Fair
DESCRIPTION:I will be exhibiting my work this weekend at the Filippi State Park in Sarasota Florida from 10 to 5 on Saturday and Sunday\, January 21 the 22nd! I would love to see you – stop by and see what’s new!
URL:https://marthadoddartist.com/event/sarasota-art-fair/
LOCATION:FL
CATEGORIES:Art Shows
ATTACH;FMTTYPE=image/jpeg:https://marthadoddartist.com/wp-content/uploads/2023/01/31F2C5E5-F612-4274-B779-9C28EB51A357.jpeg
END:VEVENT
END:VCALENDAR