BEGIN:VCALENDAR
VERSION:2.0
PRODID:-//Martha J Dodd - ECPv6.15.20//NONSGML v1.0//EN
CALSCALE:GREGORIAN
METHOD:PUBLISH
X-WR-CALNAME:Martha J Dodd
X-ORIGINAL-URL:https://marthadoddartist.com
X-WR-CALDESC:Events for Martha J Dodd
REFRESH-INTERVAL;VALUE=DURATION:PT1H
X-Robots-Tag:noindex
X-PUBLISHED-TTL:PT1H
BEGIN:VTIMEZONE
TZID:America/New_York
BEGIN:DAYLIGHT
TZOFFSETFROM:-0500
TZOFFSETTO:-0400
TZNAME:EDT
DTSTART:20220313T070000
END:DAYLIGHT
BEGIN:STANDARD
TZOFFSETFROM:-0400
TZOFFSETTO:-0500
TZNAME:EST
DTSTART:20221106T060000
END:STANDARD
BEGIN:DAYLIGHT
TZOFFSETFROM:-0500
TZOFFSETTO:-0400
TZNAME:EDT
DTSTART:20230312T070000
END:DAYLIGHT
BEGIN:STANDARD
TZOFFSETFROM:-0400
TZOFFSETTO:-0500
TZNAME:EST
DTSTART:20231105T060000
END:STANDARD
BEGIN:DAYLIGHT
TZOFFSETFROM:-0500
TZOFFSETTO:-0400
TZNAME:EDT
DTSTART:20240310T070000
END:DAYLIGHT
BEGIN:STANDARD
TZOFFSETFROM:-0400
TZOFFSETTO:-0500
TZNAME:EST
DTSTART:20241103T060000
END:STANDARD
BEGIN:DAYLIGHT
TZOFFSETFROM:-0500
TZOFFSETTO:-0400
TZNAME:EDT
DTSTART:20250309T070000
END:DAYLIGHT
BEGIN:STANDARD
TZOFFSETFROM:-0400
TZOFFSETTO:-0500
TZNAME:EST
DTSTART:20251102T060000
END:STANDARD
END:VTIMEZONE
BEGIN:VEVENT
DTSTART;TZID=America/New_York:20240206T180000
DTEND;TZID=America/New_York:20240206T200000
DTSTAMP:20260421T062425
CREATED:20240127T224021Z
LAST-MODIFIED:20240127T233130Z
UID:11828-1707242400-1707249600@marthadoddartist.com
SUMMARY:Art Reception at Harbour View Gallery Featuring Martha Dodd and Jim Crawford
DESCRIPTION:Would you like to meet Martha in person\, or are you a friend or acquaintance and would like see her latest work? Now is your chance! \nAn art reception for Martha Dodd and sculptor Jim Crawford\nwill be held Tuesday\, February 6th from 6:00 to 8:00 p.m. at the Harbour View Gallery. The gallery is located at 5789 Cape Harbour Drive at Cape Harbour in Cape Coral. \nMartha will be displaying many of her new works\, all of them in oil. \nHarbour View Gallery is an artists-owned cooperative gallery comprised of award winning local artists at the Cape Harbour Marina Promenade of Cape Harbour in Southwest Florida.  \nStop in and meet the artists!
URL:https://marthadoddartist.com/event/art-reception-at-harbour-view-gallery-featuring-martha-dodd-and-jim-crawford/
LOCATION:Harbour View Gallery\, 5789 Cape Harbour Dr\, Unit 104\,\, Cape Coral\, 33914\, United States
CATEGORIES:Art Reception - Sole Exhibition
ATTACH;FMTTYPE=image/png:https://marthadoddartist.com/wp-content/uploads/2024/01/Screenshot-2024-01-27-at-5.18.39 PM.png
END:VEVENT
BEGIN:VEVENT
DTSTART;TZID=America/New_York:20231104T170000
DTEND;TZID=America/New_York:20231104T200000
DTSTAMP:20260421T062425
CREATED:20231013T212624Z
LAST-MODIFIED:20231013T142742Z
UID:11780-1699117200-1699128000@marthadoddartist.com
SUMMARY:Vernissage at Arts For Act Gallery
DESCRIPTION:I have been working hard all summer creating an exciting new collection of paintings!  Come to the Arts for ACT Gallery November 4th in downtown Fort Myers for an evening of art.  My work is being shown for only 3 hours\, and features paintings being exhibited for the very first time.  Be the first to see them!
URL:https://marthadoddartist.com/event/vernissage-at-arts-for-act-gallery/
LOCATION:Arts for ACT Gallery\, 2265 First Street\, Fort Myers\, FL\, 33901\, United States
CATEGORIES:Art Reception - Sole Exhibition
ATTACH;FMTTYPE=image/jpeg:https://marthadoddartist.com/wp-content/uploads/2023/10/IMG_8363-scaled.jpg
ORGANIZER;CN="Martha Dodd":MAILTO:martha@marthadoddartist.com
END:VEVENT
END:VCALENDAR